BEGIN:VCALENDAR
VERSION:2.0
PRODID:-//Women&#039;s Political Caucus Of New Jersey - ECPv6.15.20//NONSGML v1.0//EN
CALSCALE:GREGORIAN
METHOD:PUBLISH
X-ORIGINAL-URL:https://wpcnj.org
X-WR-CALDESC:Events for Women&#039;s Political Caucus Of New Jersey
REFRESH-INTERVAL;VALUE=DURATION:PT1H
X-Robots-Tag:noindex
X-PUBLISHED-TTL:PT1H
BEGIN:VTIMEZONE
TZID:America/New_York
BEGIN:DAYLIGHT
TZOFFSETFROM:-0500
TZOFFSETTO:-0400
TZNAME:EDT
DTSTART:20250309T070000
END:DAYLIGHT
BEGIN:STANDARD
TZOFFSETFROM:-0400
TZOFFSETTO:-0500
TZNAME:EST
DTSTART:20251102T060000
END:STANDARD
BEGIN:DAYLIGHT
TZOFFSETFROM:-0500
TZOFFSETTO:-0400
TZNAME:EDT
DTSTART:20260308T070000
END:DAYLIGHT
BEGIN:STANDARD
TZOFFSETFROM:-0400
TZOFFSETTO:-0500
TZNAME:EST
DTSTART:20261101T060000
END:STANDARD
BEGIN:DAYLIGHT
TZOFFSETFROM:-0500
TZOFFSETTO:-0400
TZNAME:EDT
DTSTART:20270314T070000
END:DAYLIGHT
BEGIN:STANDARD
TZOFFSETFROM:-0400
TZOFFSETTO:-0500
TZNAME:EST
DTSTART:20271107T060000
END:STANDARD
END:VTIMEZONE
BEGIN:VEVENT
DTSTART;TZID=America/New_York:20260509T170000
DTEND;TZID=America/New_York:20260509T190000
DTSTAMP:20260423T075312
CREATED:20260327T121911Z
LAST-MODIFIED:20260327T122441Z
UID:10000019-1778346000-1778353200@wpcnj.org
SUMMARY:WPCNJ Networking Happy Hour
DESCRIPTION:Join WPCNJ for a Networking Happy Hour \nMay 9th from 5:00–7:00 PM at B2 Bistro & Bar\, Bordentown. \nCome mingle\, make new connections\, and enjoy great conversation! \n  \nREGISTER TODAY
URL:https://wpcnj.org/events/wpcnj-networking-happy-hour/
LOCATION:B2 Bistro + Bar\, 140 US-130\, Bordentown\, NJ\, 08505\, United States
ATTACH;FMTTYPE=image/png:https://wpcnj.org/wp-content/uploads/2026/03/Screenshot-2026-03-27-082413.png
ORGANIZER;CN="WPCNJ":MAILTO:info@wpcnj.org
END:VEVENT
END:VCALENDAR